BEGIN:VCALENDAR
VERSION:2.0
PRODID:-//Irene menis - ECPv4.8.2//NONSGML v1.0//EN
CALSCALE:GREGORIAN
METHOD:PUBLISH
X-WR-CALNAME:Irene menis
X-ORIGINAL-URL:https://www.irenemenis.it
X-WR-CALDESC:Eventi per Irene menis
BEGIN:VEVENT
DTSTART;VALUE=DATE:20250131
DTEND;VALUE=DATE:20250203
DTSTAMP:20260424T105930
CREATED:20231013T060547Z
LAST-MODIFIED:20241112T083420Z
UID:5428-1738281600-1738540799@www.irenemenis.it
SUMMARY:Basic Workshop PSYCH-K® - Lyon (Francia) - Francais
DESCRIPTION:\n					\n						.fusion-button.button-1 .fusion-button-text\, .fusion-button.button-1 i {color:#ffffff;}.fusion-button.button-1 {border-width:2px;border-color:#ffffff;}.fusion-button.button-1 .fusion-button-icon-divider{border-color:#ffffff;}.fusion-button.button-1:hover .fusion-button-text\, .fusion-button.button-1:hover i\,.fusion-button.button-1:focus .fusion-button-text\, .fusion-button.button-1:focus i\,.fusion-button.button-1:active .fusion-button-text\, .fusion-button.button-1:active{color:#ffffff;}.fusion-button.button-1:hover\, .fusion-button.button-1:focus\, .fusion-button.button-1:active{border-width:2px;border-color:#ffffff;}.fusion-button.button-1:hover .fusion-button-icon-divider\, .fusion-button.button-1:hover .fusion-button-icon-divider\, .fusion-button.button-1:active .fusion-button-icon-divider{border-color:#ffffff;}.fusion-button.button-1{background: rgba(255\,255\,255\,0);\n							background-image: -webkit-gradient( linear\, left bottom\, left top\, from( rgba(28\,214\,195\,0) )\, to( rgba(255\,255\,255\,0) ) );\n							background-image: -webkit-linear-gradient( bottom\, rgba(28\,214\,195\,0)\, rgba(255\,255\,255\,0) );\n							background-image:   -moz-linear-gradient( bottom\, rgba(28\,214\,195\,0)\, rgba(255\,255\,255\,0) );\n							background-image:     -o-linear-gradient( bottom\, rgba(28\,214\,195\,0)\, rgba(255\,255\,255\,0) );\n							background-image: linear-gradient( to top\, rgba(28\,214\,195\,0)\, rgba(255\,255\,255\,0) );}.fusion-button.button-1:hover\,.button-1:focus\,.fusion-button.button-1:active{background: rgba(28\,214\,195\,0);\n							background-image: -webkit-gradient( linear\, left bottom\, left top\, from( rgba(10\,207\,219\,0) )\, to( rgba(28\,214\,195\,0) ) );\n							background-image: -webkit-linear-gradient( bottom\, rgba(10\,207\,219\,0)\, rgba(28\,214\,195\,0) );\n							background-image:   -moz-linear-gradient( bottom\, rgba(10\,207\,219\,0)\, rgba(28\,214\,195\,0) );\n							background-image:     -o-linear-gradient( bottom\, rgba(10\,207\,219\,0)\, rgba(28\,214\,195\,0) );\n							background-image: linear-gradient( to top\, rgba(10\,207\,219\,0)\, rgba(28\,214\,195\,0) );}.fusion-button.button-1 .fusion-button-text {text-transform:uppercase;}.fusion-button.button-1{width:auto;}CONSULTA LA SCHEDA DESCRITTIVA DEL CORSO\n\n					\n				\n					\n						COMPILA IL FORM E INVIA LA RICHIESTA DI ISCRIZIONE\n\n\n  \n\n\n\n\n\n\n\n\n\n\n\n \n\n \n\n \n\n \n\n \nI have read the privacy disclaimer and accept the processing of my personal data (Reg. EU 2016/679)\nI agree to subscribe to the free newsletter service\, featuring insights and initiatives related to PSYCH-K®\, PER-K® and Irene Menis workshops (optional)\n \n\n Δdocument.getElementById( "ak_js_1" ).setAttribute( "value"\, ( new Date() ).getTime() ); ×\n\n\nQUOTE DI PARTECIPAZIONE \n\n\nIl corso sarà tenuto in francese \n\n\n\nPer informazioni e iscrizioni\, contattare  \nChristelle Brunelle \ncbrunellenaturo@gmail.com  \n\n\n\n\n\n\nSEDE E ORARI IL CORSO SI SVOLGE IN FRANCESE\, \ncon i seguenti orari\n09:00 – 13:00 e dalle  14:30 – 18:00 \n\n\n					\n				\n					\n						.fusion-button.button-2 .fusion-button-text\, .fusion-button.button-2 i {color:#424556;}.fusion-button.button-2 {border-width:0px;border-color:#424556;}.fusion-button.button-2 .fusion-button-icon-divider{border-color:#424556;}.fusion-button.button-2:hover .fusion-button-text\, .fusion-button.button-2:hover i\,.fusion-button.button-2:focus .fusion-button-text\, .fusion-button.button-2:focus i\,.fusion-button.button-2:active .fusion-button-text\, .fusion-button.button-2:active{color:#fcc594;}.fusion-button.button-2:hover\, .fusion-button.button-2:focus\, .fusion-button.button-2:active{border-width:0px;border-color:#fcc594;}.fusion-button.button-2:hover .fusion-button-icon-divider\, .fusion-button.button-2:hover .fusion-button-icon-divider\, .fusion-button.button-2:active .fusion-button-icon-divider{border-color:#fcc594;}.fusion-button.button-2{background: rgba(255\,255\,255\,0);\n							background-image: -webkit-gradient( linear\, left bottom\, left top\, from( rgba(28\,214\,195\,0) )\, to( rgba(255\,255\,255\,0) ) );\n							background-image: -webkit-linear-gradient( bottom\, rgba(28\,214\,195\,0)\, rgba(255\,255\,255\,0) );\n							background-image:   -moz-linear-gradient( bottom\, rgba(28\,214\,195\,0)\, rgba(255\,255\,255\,0) );\n							background-image:     -o-linear-gradient( bottom\, rgba(28\,214\,195\,0)\, rgba(255\,255\,255\,0) );\n							background-image: linear-gradient( to top\, rgba(28\,214\,195\,0)\, rgba(255\,255\,255\,0) );}.fusion-button.button-2:hover\,.button-2:focus\,.fusion-button.button-2:active{background: rgba(28\,214\,195\,0);\n							background-image: -webkit-gradient( linear\, left bottom\, left top\, from( rgba(10\,207\,219\,0) )\, to( rgba(28\,214\,195\,0) ) );\n							background-image: -webkit-linear-gradient( bottom\, rgba(10\,207\,219\,0)\, rgba(28\,214\,195\,0) );\n							background-image:   -moz-linear-gradient( bottom\, rgba(10\,207\,219\,0)\, rgba(28\,214\,195\,0) );\n							background-image:     -o-linear-gradient( bottom\, rgba(10\,207\,219\,0)\, rgba(28\,214\,195\,0) );\n							background-image: linear-gradient( to top\, rgba(10\,207\,219\,0)\, rgba(28\,214\,195\,0) );}.fusion-button.button-2 .fusion-button-text {text-transform:uppercase;}.fusion-button.button-2{width:auto;}CHE COS’È PSYCH-K ®.fusion-button.button-3 .fusion-button-text\, .fusion-button.button-3 i {color:#424556;}.fusion-button.button-3 {border-width:0px;border-color:#424556;}.fusion-button.button-3 .fusion-button-icon-divider{border-color:#424556;}.fusion-button.button-3:hover .fusion-button-text\, .fusion-button.button-3:hover i\,.fusion-button.button-3:focus .fusion-button-text\, .fusion-button.button-3:focus i\,.fusion-button.button-3:active .fusion-button-text\, .fusion-button.button-3:active{color:#fcc594;}.fusion-button.button-3:hover\, .fusion-button.button-3:focus\, .fusion-button.button-3:active{border-width:0px;border-color:#fcc594;}.fusion-button.button-3:hover .fusion-button-icon-divider\, .fusion-button.button-3:hover .fusion-button-icon-divider\, .fusion-button.button-3:active .fusion-button-icon-divider{border-color:#fcc594;}.fusion-button.button-3{background: rgba(255\,255\,255\,0);\n							background-image: -webkit-gradient( linear\, left bottom\, left top\, from( rgba(28\,214\,195\,0) )\, to( rgba(255\,255\,255\,0) ) );\n							background-image: -webkit-linear-gradient( bottom\, rgba(28\,214\,195\,0)\, rgba(255\,255\,255\,0) );\n							background-image:   -moz-linear-gradient( bottom\, rgba(28\,214\,195\,0)\, rgba(255\,255\,255\,0) );\n							background-image:     -o-linear-gradient( bottom\, rgba(28\,214\,195\,0)\, rgba(255\,255\,255\,0) );\n							background-image: linear-gradient( to top\, rgba(28\,214\,195\,0)\, rgba(255\,255\,255\,0) );}.fusion-button.button-3:hover\,.button-3:focus\,.fusion-button.button-3:active{background: rgba(28\,214\,195\,0);\n							background-image: -webkit-gradient( linear\, left bottom\, left top\, from( rgba(10\,207\,219\,0) )\, to( rgba(28\,214\,195\,0) ) );\n							background-image: -webkit-linear-gradient( bottom\, rgba(10\,207\,219\,0)\, rgba(28\,214\,195\,0) );\n							background-image:   -moz-linear-gradient( bottom\, rgba(10\,207\,219\,0)\, rgba(28\,214\,195\,0) );\n							background-image:     -o-linear-gradient( bottom\, rgba(10\,207\,219\,0)\, rgba(28\,214\,195\,0) );\n							background-image: linear-gradient( to top\, rgba(10\,207\,219\,0)\, rgba(28\,214\,195\,0) );}.fusion-button.button-3 .fusion-button-text {text-transform:uppercase;}.fusion-button.button-3{width:auto;}CHI SONO.fusion-button.button-4 .fusion-button-text\, .fusion-button.button-4 i {color:#424556;}.fusion-button.button-4 {border-width:0px;border-color:#424556;}.fusion-button.button-4 .fusion-button-icon-divider{border-color:#424556;}.fusion-button.button-4:hover .fusion-button-text\, .fusion-button.button-4:hover i\,.fusion-button.button-4:focus .fusion-button-text\, .fusion-button.button-4:focus i\,.fusion-button.button-4:active .fusion-button-text\, .fusion-button.button-4:active{color:#fcc594;}.fusion-button.button-4:hover\, .fusion-button.button-4:focus\, .fusion-button.button-4:active{border-width:0px;border-color:#fcc594;}.fusion-button.button-4:hover .fusion-button-icon-divider\, .fusion-button.button-4:hover .fusion-button-icon-divider\, .fusion-button.button-4:active .fusion-button-icon-divider{border-color:#fcc594;}.fusion-button.button-4{background: rgba(255\,255\,255\,0);\n							background-image: -webkit-gradient( linear\, left bottom\, left top\, from( rgba(28\,214\,195\,0) )\, to( rgba(255\,255\,255\,0) ) );\n							background-image: -webkit-linear-gradient( bottom\, rgba(28\,214\,195\,0)\, rgba(255\,255\,255\,0) );\n							background-image:   -moz-linear-gradient( bottom\, rgba(28\,214\,195\,0)\, rgba(255\,255\,255\,0) );\n							background-image:     -o-linear-gradient( bottom\, rgba(28\,214\,195\,0)\, rgba(255\,255\,255\,0) );\n							background-image: linear-gradient( to top\, rgba(28\,214\,195\,0)\, rgba(255\,255\,255\,0) );}.fusion-button.button-4:hover\,.button-4:focus\,.fusion-button.button-4:active{background: rgba(28\,214\,195\,0);\n							background-image: -webkit-gradient( linear\, left bottom\, left top\, from( rgba(10\,207\,219\,0) )\, to( rgba(28\,214\,195\,0) ) );\n							background-image: -webkit-linear-gradient( bottom\, rgba(10\,207\,219\,0)\, rgba(28\,214\,195\,0) );\n							background-image:   -moz-linear-gradient( bottom\, rgba(10\,207\,219\,0)\, rgba(28\,214\,195\,0) );\n							background-image:     -o-linear-gradient( bottom\, rgba(10\,207\,219\,0)\, rgba(28\,214\,195\,0) );\n							background-image: linear-gradient( to top\, rgba(10\,207\,219\,0)\, rgba(28\,214\,195\,0) );}.fusion-button.button-4 .fusion-button-text {text-transform:uppercase;}.fusion-button.button-4{width:auto;}CALENDARIO COMPLETO\n\n					\n				\n
URL:https://www.irenemenis.it/corso/lyonbasic/
LOCATION:La Cordée Liberté-Guillotière\,\, 61 Cr de la Liberté\,\, Lyon\, Francia
CATEGORIES:CORSI BASE PSYCH-K
ATTACH;FMTTYPE=image/png:https://www.irenemenis.it/wp-content/uploads/2020/02/psych-k-basic-workshop.png
END:VEVENT
END:VCALENDAR